BEGIN:VCALENDAR
VERSION:2.0
PRODID:-//Go Goshen - ECPv6.15.20//NONSGML v1.0//EN
CALSCALE:GREGORIAN
METHOD:PUBLISH
X-WR-CALNAME:Go Goshen
X-ORIGINAL-URL:https://gogoshen.com
X-WR-CALDESC:Events for Go Goshen
REFRESH-INTERVAL;VALUE=DURATION:PT1H
X-Robots-Tag:noindex
X-PUBLISHED-TTL:PT1H
BEGIN:VTIMEZONE
TZID:America/Denver
BEGIN:DAYLIGHT
TZOFFSETFROM:-0700
TZOFFSETTO:-0600
TZNAME:MDT
DTSTART:20250309T090000
END:DAYLIGHT
BEGIN:STANDARD
TZOFFSETFROM:-0600
TZOFFSETTO:-0700
TZNAME:MST
DTSTART:20251102T080000
END:STANDARD
BEGIN:DAYLIGHT
TZOFFSETFROM:-0700
TZOFFSETTO:-0600
TZNAME:MDT
DTSTART:20260308T090000
END:DAYLIGHT
BEGIN:STANDARD
TZOFFSETFROM:-0600
TZOFFSETTO:-0700
TZNAME:MST
DTSTART:20261101T080000
END:STANDARD
BEGIN:DAYLIGHT
TZOFFSETFROM:-0700
TZOFFSETTO:-0600
TZNAME:MDT
DTSTART:20270314T090000
END:DAYLIGHT
BEGIN:STANDARD
TZOFFSETFROM:-0600
TZOFFSETTO:-0700
TZNAME:MST
DTSTART:20271107T080000
END:STANDARD
END:VTIMEZONE
BEGIN:VEVENT
DTSTART;TZID=America/Denver:20260407T080000
DTEND;TZID=America/Denver:20260407T170000
DTSTAMP:20260423T110132
CREATED:20260408T153837Z
LAST-MODIFIED:20260408T153837Z
UID:10004174-1775548800-1775581200@gogoshen.com
SUMMARY:2026 Torrington Pride
DESCRIPTION:Torrington’s second annual LGBTQ+ pride event. This year we will be doing Drag In The Park for beginners. Drag Princesses and Princes are invited to participate\, and all are welcome to come watch for a day of music\, celebration\, and togetherness.
URL:https://gogoshen.com/event/2026-torrington-pride/
LOCATION:City Park – Torrington\, 399 W 22nd Ave\, Torrington\, Wyoming\, 82240
ATTACH;FMTTYPE=image/png:https://gogoshen.com/wp-content/uploads/2026/04/progress-baker-flag-scaled.png
ORGANIZER;CN="Queer Torrington":MAILTO:queertorrington@gmail.com
END:VEVENT
END:VCALENDAR