BEGIN:VCALENDAR
VERSION:2.0
PRODID:-//Go Goshen - ECPv6.15.20//NONSGML v1.0//EN
CALSCALE:GREGORIAN
METHOD:PUBLISH
X-WR-CALNAME:Go Goshen
X-ORIGINAL-URL:https://gogoshen.com
X-WR-CALDESC:Events for Go Goshen
REFRESH-INTERVAL;VALUE=DURATION:PT1H
X-Robots-Tag:noindex
X-PUBLISHED-TTL:PT1H
BEGIN:VTIMEZONE
TZID:America/Denver
BEGIN:DAYLIGHT
TZOFFSETFROM:-0700
TZOFFSETTO:-0600
TZNAME:MDT
DTSTART:20250309T090000
END:DAYLIGHT
BEGIN:STANDARD
TZOFFSETFROM:-0600
TZOFFSETTO:-0700
TZNAME:MST
DTSTART:20251102T080000
END:STANDARD
BEGIN:DAYLIGHT
TZOFFSETFROM:-0700
TZOFFSETTO:-0600
TZNAME:MDT
DTSTART:20260308T090000
END:DAYLIGHT
BEGIN:STANDARD
TZOFFSETFROM:-0600
TZOFFSETTO:-0700
TZNAME:MST
DTSTART:20261101T080000
END:STANDARD
BEGIN:DAYLIGHT
TZOFFSETFROM:-0700
TZOFFSETTO:-0600
TZNAME:MDT
DTSTART:20270314T090000
END:DAYLIGHT
BEGIN:STANDARD
TZOFFSETFROM:-0600
TZOFFSETTO:-0700
TZNAME:MST
DTSTART:20271107T080000
END:STANDARD
END:VTIMEZONE
BEGIN:VEVENT
DTSTART;TZID=America/Denver:20260426T120000
DTEND;TZID=America/Denver:20260426T160000
DTSTAMP:20260423T092050
CREATED:20260421T184059Z
LAST-MODIFIED:20260421T184100Z
UID:10004255-1777204800-1777219200@gogoshen.com
SUMMARY:2026 National Circuit Finals Steer Roping
DESCRIPTION:April 24 \nCalcutta & Banquet \nCottonwood Country Club \n5:30 PM \nApril 25 \nGoshen County Fairgrounds \nPavilion \n12 PM \nHappy Hour & Buffet @ Cottonwood Country Club \n5:30 PM \nApril 26 \nGoshen County Pavilion \nGrand Entry \n12 PM \nThis multi-day event brings high-level rodeo competition to Goshen County\, showcasing some of the best talent in the country. From opening events to championship rounds\, there is something for every rodeo fan.
URL:https://gogoshen.com/event/2026-national-circuit-finals-steer-roping/2026-04-26/
LOCATION:Pavilion – Goshen County Fairgrounds\, 7078 Fairgrounds Rd\, Torrington\, Wyoming\, 82240
CATEGORIES:Event,Family,Local Events,Rodeo
ATTACH;FMTTYPE=image/jpeg:https://gogoshen.com/wp-content/uploads/2026/04/4.24-National-Circuit-Finals-Steer-Roping-169.jpg
END:VEVENT
BEGIN:VEVENT
DTSTART;TZID=America/Denver:20260425T190000
DTEND;TZID=America/Denver:20260425T200000
DTSTAMP:20260423T092050
CREATED:20260408T154558Z
LAST-MODIFIED:20260408T154559Z
UID:10004239-1777143600-1777147200@gogoshen.com
SUMMARY:2026 Spring Recital "In Bloom"
DESCRIPTION:
URL:https://gogoshen.com/event/2026-spring-recital-in-bloom/2026-04-25/2/
LOCATION:Eastern Wyoming College Auditorium\, 3200 W C St\,\, Torrington\, WY\, 82240\, United States
CATEGORIES:Arts & Culture,Family,Local Events
ATTACH;FMTTYPE=image/png:https://gogoshen.com/wp-content/uploads/2026/04/4.24-25-28th-Ave-Dance-Recital.png
END:VEVENT
BEGIN:VEVENT
DTSTART;TZID=America/Denver:20260425T140000
DTEND;TZID=America/Denver:20260425T150000
DTSTAMP:20260423T092050
CREATED:20260408T154558Z
LAST-MODIFIED:20260408T154559Z
UID:10004238-1777125600-1777129200@gogoshen.com
SUMMARY:2026 Spring Recital "In Bloom"
DESCRIPTION:
URL:https://gogoshen.com/event/2026-spring-recital-in-bloom/2026-04-25/1/
LOCATION:Eastern Wyoming College Auditorium\, 3200 W C St\,\, Torrington\, WY\, 82240\, United States
CATEGORIES:Arts & Culture,Family,Local Events
ATTACH;FMTTYPE=image/png:https://gogoshen.com/wp-content/uploads/2026/04/4.24-25-28th-Ave-Dance-Recital.png
END:VEVENT
BEGIN:VEVENT
DTSTART;TZID=America/Denver:20260425T120000
DTEND;TZID=America/Denver:20260425T160000
DTSTAMP:20260423T092050
CREATED:20260421T184059Z
LAST-MODIFIED:20260421T184100Z
UID:10004254-1777118400-1777132800@gogoshen.com
SUMMARY:2026 National Circuit Finals Steer Roping
DESCRIPTION:April 24 \nCalcutta & Banquet \nCottonwood Country Club \n5:30 PM \nApril 25 \nGoshen County Fairgrounds \nPavilion \n12 PM \nHappy Hour & Buffet @ Cottonwood Country Club \n5:30 PM \nApril 26 \nGoshen County Pavilion \nGrand Entry \n12 PM \nThis multi-day event brings high-level rodeo competition to Goshen County\, showcasing some of the best talent in the country. From opening events to championship rounds\, there is something for every rodeo fan.
URL:https://gogoshen.com/event/2026-national-circuit-finals-steer-roping/2026-04-25/
LOCATION:Pavilion – Goshen County Fairgrounds\, 7078 Fairgrounds Rd\, Torrington\, Wyoming\, 82240
CATEGORIES:Event,Family,Local Events,Rodeo
ATTACH;FMTTYPE=image/jpeg:https://gogoshen.com/wp-content/uploads/2026/04/4.24-National-Circuit-Finals-Steer-Roping-169.jpg
END:VEVENT
BEGIN:VEVENT
DTSTART;TZID=America/Denver:20260424T200000
DTEND;TZID=America/Denver:20260424T230000
DTSTAMP:20260423T092050
CREATED:20260422T153008Z
LAST-MODIFIED:20260422T153008Z
UID:10004258-1777060800-1777071600@gogoshen.com
SUMMARY:Country Line Dancing Lessons
DESCRIPTION:
URL:https://gogoshen.com/event/country-line-dancing-lessons/
LOCATION:Thirsty’s Bar & Lounge\, 1901 Main St\, Torrington\, Wyoming\, 82240
CATEGORIES:Event,Live Band / Entertainment,Local Events
ATTACH;FMTTYPE=image/jpeg:https://gogoshen.com/wp-content/uploads/2026/04/4.24-Thirstys-Line-Dancing-169.jpg
END:VEVENT
BEGIN:VEVENT
DTSTART;TZID=America/Denver:20260424T190000
DTEND;TZID=America/Denver:20260424T200000
DTSTAMP:20260423T092050
CREATED:20260408T154558Z
LAST-MODIFIED:20260408T154559Z
UID:10004237-1777057200-1777060800@gogoshen.com
SUMMARY:2026 Spring Recital "In Bloom"
DESCRIPTION:
URL:https://gogoshen.com/event/2026-spring-recital-in-bloom/2026-04-24/2/
LOCATION:Eastern Wyoming College Auditorium\, 3200 W C St\,\, Torrington\, WY\, 82240\, United States
CATEGORIES:Arts & Culture,Family,Local Events
ATTACH;FMTTYPE=image/png:https://gogoshen.com/wp-content/uploads/2026/04/4.24-25-28th-Ave-Dance-Recital.png
END:VEVENT
BEGIN:VEVENT
DTSTART;TZID=America/Denver:20260424T173000
DTEND;TZID=America/Denver:20260424T213000
DTSTAMP:20260423T092050
CREATED:20260421T182902Z
LAST-MODIFIED:20260421T182902Z
UID:10004253-1777051800-1777066200@gogoshen.com
SUMMARY:2026 National Circuit Finals Steer Roping - Calcutta & Buffet
DESCRIPTION:
URL:https://gogoshen.com/event/2026-national-circuit-finals-steer-roping-calcutta-buffet/
LOCATION:Cottonwood Country Club\, 149 W 15th Ave\, Torrington\, Wyoming\, 82240
CATEGORIES:Event,Family,Local Events,Rodeo
END:VEVENT
BEGIN:VEVENT
DTSTART;TZID=America/Denver:20260424T140000
DTEND;TZID=America/Denver:20260424T150000
DTSTAMP:20260423T092050
CREATED:20260408T154558Z
LAST-MODIFIED:20260408T154559Z
UID:10004236-1777039200-1777042800@gogoshen.com
SUMMARY:2026 Spring Recital "In Bloom"
DESCRIPTION:
URL:https://gogoshen.com/event/2026-spring-recital-in-bloom/2026-04-24/1/
LOCATION:Eastern Wyoming College Auditorium\, 3200 W C St\,\, Torrington\, WY\, 82240\, United States
CATEGORIES:Arts & Culture,Family,Local Events
ATTACH;FMTTYPE=image/png:https://gogoshen.com/wp-content/uploads/2026/04/4.24-25-28th-Ave-Dance-Recital.png
END:VEVENT
BEGIN:VEVENT
DTSTART;TZID=America/Denver:20260423T163000
DTEND;TZID=America/Denver:20260423T193000
DTSTAMP:20260423T092050
CREATED:20260415T155626Z
LAST-MODIFIED:20260415T155907Z
UID:10004247-1776961800-1776972600@gogoshen.com
SUMMARY:Titan Machinery's Ag Expo
DESCRIPTION:Meal provided plus giveaways throughout the eventSpeakers include Wyoming State Engineers Office\, Platte Valley Bank\, and M Lazy Heart FeedsTopics include water law in Wyoming\, snow pack outlook\, agriculture lending\, and cattle feeding
URL:https://gogoshen.com/event/titan-machinerys-ag-expo/
LOCATION:Wyoming
CATEGORIES:Business After Hours & Open House,Event,Local Events
ATTACH;FMTTYPE=image/jpeg:https://gogoshen.com/wp-content/uploads/2026/04/4.23-Titan-Machinery-Ag-Expo-169.jpg
END:VEVENT
BEGIN:VEVENT
DTSTART;TZID=America/Denver:20260423T100000
DTEND;TZID=America/Denver:20260423T170000
DTSTAMP:20260423T092050
CREATED:20260415T160347Z
LAST-MODIFIED:20260415T160403Z
UID:10004248-1776938400-1776963600@gogoshen.com
SUMMARY:Ribbon Cutting\, Cake\, & Coffee for Range Wellness & Massage Therapy
DESCRIPTION:
URL:https://gogoshen.com/event/ribbon-cutting-cake-coffee-for-range-wellness-massage-therapy/
LOCATION:The Class Act\, 1916 Main St\, Torrington\, Wyoming\, 82240
CATEGORIES:Business After Hours & Open House,Event,Family,Local Events
ATTACH;FMTTYPE=image/png:https://gogoshen.com/wp-content/uploads/2026/04/4.23-Range-Wellness-Ribbon-Cutting-169.png
END:VEVENT
BEGIN:VEVENT
DTSTART;TZID=America/Denver:20260419T160000
DTEND;TZID=America/Denver:20260419T190000
DTSTAMP:20260423T092050
CREATED:20260317T154141Z
LAST-MODIFIED:20260317T154142Z
UID:10004163-1776614400-1776625200@gogoshen.com
SUMMARY:4-H Pancake Supper
DESCRIPTION:
URL:https://gogoshen.com/event/4-h-pancake-supper/
LOCATION:Rendezvous Center- Goshen County Fairgrounds\, 7078 Fairgrounds Rd\, Torrington\, WY\, 82240\, United States
CATEGORIES:Event,Family,Local Events
ATTACH;FMTTYPE=image/jpeg:https://gogoshen.com/wp-content/uploads/2026/03/4.19-4-H-Pancake-Supper-e1773762059417.jpg
END:VEVENT
BEGIN:VEVENT
DTSTART;TZID=America/Denver:20260418T110000
DTEND;TZID=America/Denver:20260418T140000
DTSTAMP:20260423T092050
CREATED:20260416T175822Z
LAST-MODIFIED:20260416T175953Z
UID:10004251-1776510000-1776520800@gogoshen.com
SUMMARY:Totes & Towels Workshop
DESCRIPTION:
URL:https://gogoshen.com/event/totes-towels-workshop/
LOCATION:Eastern Wyoming College\, 3200 W C St\, Torrington\, WY\, 82240
CATEGORIES:Class / Seminar,Event,Local Events
ATTACH;FMTTYPE=image/jpeg:https://gogoshen.com/wp-content/uploads/2026/04/4.18-EWC-Community-Ed-169.jpeg
ORGANIZER;CN="Eastern Wyoming College - Community Education":MAILTO:donna.white@ewc.wy.edu
END:VEVENT
BEGIN:VEVENT
DTSTART;TZID=America/Denver:20260407T080000
DTEND;TZID=America/Denver:20260407T170000
DTSTAMP:20260423T092050
CREATED:20260408T153837Z
LAST-MODIFIED:20260408T153837Z
UID:10004174-1775548800-1775581200@gogoshen.com
SUMMARY:2026 Torrington Pride
DESCRIPTION:Torrington’s second annual LGBTQ+ pride event. This year we will be doing Drag In The Park for beginners. Drag Princesses and Princes are invited to participate\, and all are welcome to come watch for a day of music\, celebration\, and togetherness.
URL:https://gogoshen.com/event/2026-torrington-pride/
LOCATION:City Park – Torrington\, 399 W 22nd Ave\, Torrington\, Wyoming\, 82240
ATTACH;FMTTYPE=image/png:https://gogoshen.com/wp-content/uploads/2026/04/progress-baker-flag-scaled.png
ORGANIZER;CN="Queer Torrington":MAILTO:queertorrington@gmail.com
END:VEVENT
END:VCALENDAR