BEGIN:VCALENDAR
VERSION:2.0
PRODID:-//Go Goshen - ECPv6.15.20//NONSGML v1.0//EN
CALSCALE:GREGORIAN
METHOD:PUBLISH
X-WR-CALNAME:Go Goshen
X-ORIGINAL-URL:https://gogoshen.com
X-WR-CALDESC:Events for Go Goshen
REFRESH-INTERVAL;VALUE=DURATION:PT1H
X-Robots-Tag:noindex
X-PUBLISHED-TTL:PT1H
BEGIN:VTIMEZONE
TZID:America/Denver
BEGIN:DAYLIGHT
TZOFFSETFROM:-0700
TZOFFSETTO:-0600
TZNAME:MDT
DTSTART:20250309T090000
END:DAYLIGHT
BEGIN:STANDARD
TZOFFSETFROM:-0600
TZOFFSETTO:-0700
TZNAME:MST
DTSTART:20251102T080000
END:STANDARD
BEGIN:DAYLIGHT
TZOFFSETFROM:-0700
TZOFFSETTO:-0600
TZNAME:MDT
DTSTART:20260308T090000
END:DAYLIGHT
BEGIN:STANDARD
TZOFFSETFROM:-0600
TZOFFSETTO:-0700
TZNAME:MST
DTSTART:20261101T080000
END:STANDARD
BEGIN:DAYLIGHT
TZOFFSETFROM:-0700
TZOFFSETTO:-0600
TZNAME:MDT
DTSTART:20270314T090000
END:DAYLIGHT
BEGIN:STANDARD
TZOFFSETFROM:-0600
TZOFFSETTO:-0700
TZNAME:MST
DTSTART:20271107T080000
END:STANDARD
END:VTIMEZONE
BEGIN:VEVENT
DTSTART;TZID=America/Denver:20260801T130000
DTEND;TZID=America/Denver:20260801T150000
DTSTAMP:20260423T145753
CREATED:20260408T153802Z
LAST-MODIFIED:20260408T153925Z
UID:10004178-1785589200-1785596400@gogoshen.com
SUMMARY:Queer Torrington Monthly Social
DESCRIPTION:An open social gathering for queer people and allies to have a place to retreat to where you can be safe and open and build community. The first Saturday of every month we get together to talk\, play games\, make food\, crochet\, watch movies\, or other things you may be interested in doing or learning.
URL:https://gogoshen.com/event/queer-torrington-monthly-social/2026-08-01/
LOCATION:United Methodist Church\, 2702 Main Street\, Torrington\, WY\, United States
CATEGORIES:Local Events,Meetings
ATTACH;FMTTYPE=image/png:https://gogoshen.com/wp-content/uploads/2026/04/progress-baker-flag-1-scaled.png
ORGANIZER;CN="Queer Torrington":MAILTO:queertorrington@gmail.com
END:VEVENT
BEGIN:VEVENT
DTSTART;TZID=America/Denver:20260905T130000
DTEND;TZID=America/Denver:20260905T150000
DTSTAMP:20260423T145753
CREATED:20260408T153802Z
LAST-MODIFIED:20260408T153925Z
UID:10004179-1788613200-1788620400@gogoshen.com
SUMMARY:Queer Torrington Monthly Social
DESCRIPTION:An open social gathering for queer people and allies to have a place to retreat to where you can be safe and open and build community. The first Saturday of every month we get together to talk\, play games\, make food\, crochet\, watch movies\, or other things you may be interested in doing or learning.
URL:https://gogoshen.com/event/queer-torrington-monthly-social/2026-09-05/
LOCATION:United Methodist Church\, 2702 Main Street\, Torrington\, WY\, United States
CATEGORIES:Local Events,Meetings
ATTACH;FMTTYPE=image/png:https://gogoshen.com/wp-content/uploads/2026/04/progress-baker-flag-1-scaled.png
ORGANIZER;CN="Queer Torrington":MAILTO:queertorrington@gmail.com
END:VEVENT
BEGIN:VEVENT
DTSTART;TZID=America/Denver:20261003T130000
DTEND;TZID=America/Denver:20261003T150000
DTSTAMP:20260423T145753
CREATED:20260408T153802Z
LAST-MODIFIED:20260408T153925Z
UID:10004180-1791032400-1791039600@gogoshen.com
SUMMARY:Queer Torrington Monthly Social
DESCRIPTION:An open social gathering for queer people and allies to have a place to retreat to where you can be safe and open and build community. The first Saturday of every month we get together to talk\, play games\, make food\, crochet\, watch movies\, or other things you may be interested in doing or learning.
URL:https://gogoshen.com/event/queer-torrington-monthly-social/2026-10-03/
LOCATION:United Methodist Church\, 2702 Main Street\, Torrington\, WY\, United States
CATEGORIES:Local Events,Meetings
ATTACH;FMTTYPE=image/png:https://gogoshen.com/wp-content/uploads/2026/04/progress-baker-flag-1-scaled.png
ORGANIZER;CN="Queer Torrington":MAILTO:queertorrington@gmail.com
END:VEVENT
BEGIN:VEVENT
DTSTART;TZID=America/Denver:20261107T130000
DTEND;TZID=America/Denver:20261107T150000
DTSTAMP:20260423T145753
CREATED:20260408T153802Z
LAST-MODIFIED:20260408T153925Z
UID:10004181-1794056400-1794063600@gogoshen.com
SUMMARY:Queer Torrington Monthly Social
DESCRIPTION:An open social gathering for queer people and allies to have a place to retreat to where you can be safe and open and build community. The first Saturday of every month we get together to talk\, play games\, make food\, crochet\, watch movies\, or other things you may be interested in doing or learning.
URL:https://gogoshen.com/event/queer-torrington-monthly-social/2026-11-07/
LOCATION:United Methodist Church\, 2702 Main Street\, Torrington\, WY\, United States
CATEGORIES:Local Events,Meetings
ATTACH;FMTTYPE=image/png:https://gogoshen.com/wp-content/uploads/2026/04/progress-baker-flag-1-scaled.png
ORGANIZER;CN="Queer Torrington":MAILTO:queertorrington@gmail.com
END:VEVENT
BEGIN:VEVENT
DTSTART;TZID=America/Denver:20261205T130000
DTEND;TZID=America/Denver:20261205T150000
DTSTAMP:20260423T145753
CREATED:20260408T153802Z
LAST-MODIFIED:20260408T153925Z
UID:10004182-1796475600-1796482800@gogoshen.com
SUMMARY:Queer Torrington Monthly Social
DESCRIPTION:An open social gathering for queer people and allies to have a place to retreat to where you can be safe and open and build community. The first Saturday of every month we get together to talk\, play games\, make food\, crochet\, watch movies\, or other things you may be interested in doing or learning.
URL:https://gogoshen.com/event/queer-torrington-monthly-social/2026-12-05/
LOCATION:United Methodist Church\, 2702 Main Street\, Torrington\, WY\, United States
CATEGORIES:Local Events,Meetings
ATTACH;FMTTYPE=image/png:https://gogoshen.com/wp-content/uploads/2026/04/progress-baker-flag-1-scaled.png
ORGANIZER;CN="Queer Torrington":MAILTO:queertorrington@gmail.com
END:VEVENT
END:VCALENDAR