BEGIN:VCALENDAR
VERSION:2.0
PRODID:-//Go Goshen - ECPv6.15.20//NONSGML v1.0//EN
CALSCALE:GREGORIAN
METHOD:PUBLISH
X-ORIGINAL-URL:https://gogoshen.com
X-WR-CALDESC:Events for Go Goshen
REFRESH-INTERVAL;VALUE=DURATION:PT1H
X-Robots-Tag:noindex
X-PUBLISHED-TTL:PT1H
BEGIN:VTIMEZONE
TZID:America/Denver
BEGIN:DAYLIGHT
TZOFFSETFROM:-0700
TZOFFSETTO:-0600
TZNAME:MDT
DTSTART:20250309T090000
END:DAYLIGHT
BEGIN:STANDARD
TZOFFSETFROM:-0600
TZOFFSETTO:-0700
TZNAME:MST
DTSTART:20251102T080000
END:STANDARD
BEGIN:DAYLIGHT
TZOFFSETFROM:-0700
TZOFFSETTO:-0600
TZNAME:MDT
DTSTART:20260308T090000
END:DAYLIGHT
BEGIN:STANDARD
TZOFFSETFROM:-0600
TZOFFSETTO:-0700
TZNAME:MST
DTSTART:20261101T080000
END:STANDARD
BEGIN:DAYLIGHT
TZOFFSETFROM:-0700
TZOFFSETTO:-0600
TZNAME:MDT
DTSTART:20270314T090000
END:DAYLIGHT
BEGIN:STANDARD
TZOFFSETFROM:-0600
TZOFFSETTO:-0700
TZNAME:MST
DTSTART:20271107T080000
END:STANDARD
END:VTIMEZONE
BEGIN:VEVENT
DTSTART;TZID=America/Denver:20260501T130000
DTEND;TZID=America/Denver:20260501T190000
DTSTAMP:20260423T055851
CREATED:20260422T152333Z
LAST-MODIFIED:20260422T152429Z
UID:10004257-1777640400-1777662000@gogoshen.com
SUMMARY:Great Gardens - Open House & Business After Hours
DESCRIPTION:
URL:https://gogoshen.com/event/great-gardens-open-house-business-after-hours/
LOCATION:Great Gardens\, 4706 West Hwy 26/85\, Torrington\, Wyoming\, 82240
CATEGORIES:Business After Hours & Open House,Event,Family,Local Events,Market/Show
ATTACH;FMTTYPE=image/png:https://gogoshen.com/wp-content/uploads/2026/04/5.1-Great-Gardens-Open-House.png
END:VEVENT
BEGIN:VEVENT
DTSTART;TZID=America/Denver:20260502T130000
DTEND;TZID=America/Denver:20260502T150000
DTSTAMP:20260423T055851
CREATED:20260408T153802Z
LAST-MODIFIED:20260408T153925Z
UID:10004175-1777726800-1777734000@gogoshen.com
SUMMARY:Queer Torrington Monthly Social
DESCRIPTION:An open social gathering for queer people and allies to have a place to retreat to where you can be safe and open and build community. The first Saturday of every month we get together to talk\, play games\, make food\, crochet\, watch movies\, or other things you may be interested in doing or learning.
URL:https://gogoshen.com/event/queer-torrington-monthly-social/2026-05-02/
LOCATION:United Methodist Church\, 2702 Main Street\, Torrington\, WY\, United States
CATEGORIES:Local Events,Meetings
ATTACH;FMTTYPE=image/png:https://gogoshen.com/wp-content/uploads/2026/04/progress-baker-flag-1-scaled.png
ORGANIZER;CN="Queer Torrington":MAILTO:queertorrington@gmail.com
END:VEVENT
BEGIN:VEVENT
DTSTART;TZID=America/Denver:20260503T160000
DTEND;TZID=America/Denver:20260503T180000
DTSTAMP:20260423T055851
CREATED:20260415T155159Z
LAST-MODIFIED:20260415T155200Z
UID:10004246-1777824000-1777831200@gogoshen.com
SUMMARY:Ladies Paint Party
DESCRIPTION:Join us Sunday\, May 3rd from 4-6pm for a ladies’ paint party with professional instruction by Jessica Reesy of Shark’s Peak Sip and Paint! Open to Kindergarten and up\, childcare available. Adults: $25\, Kids: Free. Sign up and find out more at torringtosonrise.church/special-events
URL:https://gogoshen.com/event/ladies-paint-party/
LOCATION:SONrise Church\, 1100 E Valley Rd\, Torrington\, WY\, 82240\, United States
CATEGORIES:Arts & Culture,Event,Family,Local Events
ATTACH;FMTTYPE=image/jpeg:https://gogoshen.com/wp-content/uploads/2026/04/5.3-Ladies-Paint-Party.jpg
ORGANIZER;CN="SONrise Church":MAILTO:info@torringtonsonrise.church
END:VEVENT
END:VCALENDAR