BEGIN:VCALENDAR
VERSION:2.0
PRODID:-//Go Goshen - ECPv6.15.20//NONSGML v1.0//EN
CALSCALE:GREGORIAN
METHOD:PUBLISH
X-ORIGINAL-URL:https://gogoshen.com
X-WR-CALDESC:Events for Go Goshen
REFRESH-INTERVAL;VALUE=DURATION:PT1H
X-Robots-Tag:noindex
X-PUBLISHED-TTL:PT1H
BEGIN:VTIMEZONE
TZID:America/Denver
BEGIN:DAYLIGHT
TZOFFSETFROM:-0700
TZOFFSETTO:-0600
TZNAME:MDT
DTSTART:20250309T090000
END:DAYLIGHT
BEGIN:STANDARD
TZOFFSETFROM:-0600
TZOFFSETTO:-0700
TZNAME:MST
DTSTART:20251102T080000
END:STANDARD
BEGIN:DAYLIGHT
TZOFFSETFROM:-0700
TZOFFSETTO:-0600
TZNAME:MDT
DTSTART:20260308T090000
END:DAYLIGHT
BEGIN:STANDARD
TZOFFSETFROM:-0600
TZOFFSETTO:-0700
TZNAME:MST
DTSTART:20261101T080000
END:STANDARD
BEGIN:DAYLIGHT
TZOFFSETFROM:-0700
TZOFFSETTO:-0600
TZNAME:MDT
DTSTART:20270314T090000
END:DAYLIGHT
BEGIN:STANDARD
TZOFFSETFROM:-0600
TZOFFSETTO:-0700
TZNAME:MST
DTSTART:20271107T080000
END:STANDARD
END:VTIMEZONE
BEGIN:VEVENT
DTSTART;TZID=America/Denver:20260424T173000
DTEND;TZID=America/Denver:20260424T213000
DTSTAMP:20260423T073148
CREATED:20260421T182902Z
LAST-MODIFIED:20260421T182902Z
UID:10004253-1777051800-1777066200@gogoshen.com
SUMMARY:2026 National Circuit Finals Steer Roping - Calcutta & Buffet
DESCRIPTION:
URL:https://gogoshen.com/event/2026-national-circuit-finals-steer-roping-calcutta-buffet/
LOCATION:Cottonwood Country Club\, 149 W 15th Ave\, Torrington\, Wyoming\, 82240
CATEGORIES:Event,Family,Local Events,Rodeo
END:VEVENT
END:VCALENDAR